BEGIN:VCALENDAR
VERSION:2.0
PRODID:-//Cambo-les-Bains - ECPv4.9.4//NONSGML v1.0//EN
CALSCALE:GREGORIAN
METHOD:PUBLISH
X-WR-CALNAME:Cambo-les-Bains
X-ORIGINAL-URL:https://www.cambolesbains.fr
X-WR-CALDESC:Évènements pour Cambo-les-Bains
BEGIN:VTIMEZONE
TZID:"Europe/Paris"
BEGIN:DAYLIGHT
TZOFFSETFROM:+0100
TZOFFSETTO:+0200
TZNAME:CEST
DTSTART:20260329T010000
END:DAYLIGHT
BEGIN:STANDARD
TZOFFSETFROM:+0200
TZOFFSETTO:+0100
TZNAME:CET
DTSTART:20261025T010000
END:STANDARD
END:VTIMEZONE
BEGIN:VEVENT
DTSTART;TZID="Europe/Paris":20260430T190000
DTEND;TZID="Europe/Paris":20260430T190000
DTSTAMP:20260421T155657
CREATED:20260204T141959Z
LAST-MODIFIED:20260421T065738Z
UID:28699-1777575600-1777575600@www.cambolesbains.fr
SUMMARY:Spectacle « Adriene Bergson » - Seule en scène de la Compagnie ITZULI
DESCRIPTION:AIEC Gelan – Salle de l’AIEC\nApirilak 30\, osteguna\, 19:00etan / Jeudi 30 avril à 19h\nUrririk / Entrée gratuite\n12 urtetik goiti / À partir de 12 ans \nZatozte\, irribarrea eta hausnarketa uztartzen dituen momentu berezi honetara! \nVenez vivre un moment unique entre rire et réflexion ! \nPartager :Cliquez pour partager sur Twitter(ouvre dans une nouvelle fenêtre)Cliquez pour partager sur Facebook(ouvre dans une nouvelle fenêtre)Cliquer pour imprimer(ouvre dans une nouvelle fenêtre)
URL:https://www.cambolesbains.fr/fr/evenement/spectacle-adriene-bergson/
LOCATION:Salle AIEC
CATEGORIES:Spectacle
ATTACH;FMTTYPE=image/jpeg:https://www.cambolesbains.fr/wp-content/uploads/2026/04/1267c9739ce7da4ebae78dc312b95938.jpg
END:VEVENT
END:VCALENDAR