BEGIN:VCALENDAR
VERSION:2.0
PRODID:-//Cambo-les-Bains - ECPv4.9.4//NONSGML v1.0//EN
CALSCALE:GREGORIAN
METHOD:PUBLISH
X-WR-CALNAME:Cambo-les-Bains
X-ORIGINAL-URL:https://www.cambolesbains.fr
X-WR-CALDESC:Évènements pour Cambo-les-Bains
BEGIN:VTIMEZONE
TZID:"Europe/Paris"
BEGIN:DAYLIGHT
TZOFFSETFROM:+0100
TZOFFSETTO:+0200
TZNAME:CEST
DTSTART:20260329T010000
END:DAYLIGHT
BEGIN:STANDARD
TZOFFSETFROM:+0200
TZOFFSETTO:+0100
TZNAME:CET
DTSTART:20261025T010000
END:STANDARD
END:VTIMEZONE
BEGIN:VEVENT
DTSTART;TZID="Europe/Paris":20260425T200000
DTEND;TZID="Europe/Paris":20260425T200000
DTSTAMP:20260421T171421
CREATED:20260212T145709Z
LAST-MODIFIED:20260212T145719Z
UID:28833-1777147200-1777147200@www.cambolesbains.fr
SUMMARY:Master Class Stand up et spectacle
DESCRIPTION:Partager :Cliquez pour partager sur Twitter(ouvre dans une nouvelle fenêtre)Cliquez pour partager sur Facebook(ouvre dans une nouvelle fenêtre)Cliquer pour imprimer(ouvre dans une nouvelle fenêtre)
URL:https://www.cambolesbains.fr/fr/evenement/master-class-stand-up-et-spectacle-2/
LOCATION:Salle AIEC
CATEGORIES:Théâtre
ATTACH;FMTTYPE=image/png:https://www.cambolesbains.fr/wp-content/uploads/2026/02/aiec-25.04.26.png
END:VEVENT
END:VCALENDAR