BEGIN:VCALENDAR
VERSION:2.0
PRODID:-//Cambo-les-Bains - ECPv4.9.4//NONSGML v1.0//EN
CALSCALE:GREGORIAN
METHOD:PUBLISH
X-WR-CALNAME:Cambo-les-Bains
X-ORIGINAL-URL:https://www.cambolesbains.fr
X-WR-CALDESC:Évènements pour Cambo-les-Bains
BEGIN:VTIMEZONE
TZID:"Europe/Paris"
BEGIN:DAYLIGHT
TZOFFSETFROM:+0100
TZOFFSETTO:+0200
TZNAME:CEST
DTSTART:20260329T010000
END:DAYLIGHT
BEGIN:STANDARD
TZOFFSETFROM:+0200
TZOFFSETTO:+0100
TZNAME:CET
DTSTART:20261025T010000
END:STANDARD
END:VTIMEZONE
BEGIN:VEVENT
DTSTART;TZID="Europe/Paris":20260707T134500
DTEND;TZID="Europe/Paris":20260707T160000
DTSTAMP:20260421T201516
CREATED:20200304T093957Z
LAST-MODIFIED:20260224T085125Z
UID:10040-1783431900-1783440000@www.cambolesbains.fr
SUMMARY:Les rendez-vous nature du 64 – Balade - Papillons\, libellules\, petits pollinisateurs
DESCRIPTION:Avec Laurence Goyeneche\, animatrice nature au CPIE Pays Basque. \nLes enfants découvrent les pollinisateurs qui nous entourent et leur rôle essentiel dans la reproduction des plantes et notre alimentation. Munis d’épuisettes\, ils capturent ces insectes\, les observent de près\, avant de les relâcher. \nPrévoir eau\, chaussures type tennis (pas de semelles lisses)\, un goûter (facultatif). \nPOUR ENFANTS DE 4 A 11 ANS UNIQUEMENT (IL SERA DEMANDE A UN OU DEUX PARENTS DE RESTER DURANT L’ANIMATION) \nTarifs\n3 € / enfant \n  \nInscriptions obligatoires auprès du CPIE Pays Basque.\nTél : 05 59 37 47 20\nCourriel : cpie.pays.basque@wanadoo.fr\nSite internet : www.cpiepaysbasque.fr \n  \nPartager :Cliquez pour partager sur Twitter(ouvre dans une nouvelle fenêtre)Cliquez pour partager sur Facebook(ouvre dans une nouvelle fenêtre)Cliquer pour imprimer(ouvre dans une nouvelle fenêtre)
URL:https://www.cambolesbains.fr/fr/evenement/les-rendez-vous-nature-du-64-balade-papillons-libellules-petits-pollinisateurs/
LOCATION:Colline de la Bergerie
CATEGORIES:Loisir nature
ATTACH;FMTTYPE=image/jpeg:https://www.cambolesbains.fr/wp-content/uploads/2020/03/balade_colline_bergerie.jpg
END:VEVENT
END:VCALENDAR