BEGIN:VCALENDAR
VERSION:2.0
PRODID:-//Cambo-les-Bains - ECPv4.9.4//NONSGML v1.0//EN
CALSCALE:GREGORIAN
METHOD:PUBLISH
X-WR-CALNAME:Cambo-les-Bains
X-ORIGINAL-URL:https://www.cambolesbains.fr
X-WR-CALDESC:Évènements pour Cambo-les-Bains
BEGIN:VTIMEZONE
TZID:"Europe/Paris"
BEGIN:DAYLIGHT
TZOFFSETFROM:+0100
TZOFFSETTO:+0200
TZNAME:CEST
DTSTART:20260329T010000
END:DAYLIGHT
BEGIN:STANDARD
TZOFFSETFROM:+0200
TZOFFSETTO:+0100
TZNAME:CET
DTSTART:20261025T010000
END:STANDARD
END:VTIMEZONE
BEGIN:VEVENT
DTSTART;TZID="Europe/Paris":20261103T140000
DTEND;TZID="Europe/Paris":20261103T170000
DTSTAMP:20260421T213229
CREATED:20200304T093902Z
LAST-MODIFIED:20260224T085637Z
UID:10034-1793714400-1793725200@www.cambolesbains.fr
SUMMARY:Les rendez-vous nature du 64 – Balade - Land'art
DESCRIPTION:Avec Manon Marchand\, animatrice nature au CPIE Pays Basque. \nVenez découvrir une forêt d’un espace naturel sensible à travers le Land Art. Inspirez-vous des éléments naturels pour créer des œuvres éphémères et laisser libre cours à votre imagination\, tout en observant et respectant la nature. \nPrévoir eau et chaussures de marche type tennis (pas de semelles lisses). \nÀ partir de 7 ans \nTarifs\nDe 5 à 10€ \n  \nInscriptions obligatoires auprès du CPIE Pays Basque.\nTél : 05 59 37 47 20\nCourriel : cpie.pays.basque@wanadoo.fr\nSite internet : www.cpiepaysbasque.fr \n  \nPartager :Cliquez pour partager sur Twitter(ouvre dans une nouvelle fenêtre)Cliquez pour partager sur Facebook(ouvre dans une nouvelle fenêtre)Cliquer pour imprimer(ouvre dans une nouvelle fenêtre)
URL:https://www.cambolesbains.fr/fr/evenement/les-rendez-vous-nature-du-64-balade-landart/
LOCATION:Colline de la Bergerie
CATEGORIES:Loisir nature
ATTACH;FMTTYPE=image/jpeg:https://www.cambolesbains.fr/wp-content/uploads/2020/03/balade_colline_bergerie.jpg
END:VEVENT
END:VCALENDAR