BEGIN:VCALENDAR
VERSION:2.0
PRODID:-//Cambo-les-Bains - ECPv4.9.4//NONSGML v1.0//EN
CALSCALE:GREGORIAN
METHOD:PUBLISH
X-WR-CALNAME:Cambo-les-Bains
X-ORIGINAL-URL:https://www.cambolesbains.fr
X-WR-CALDESC:Évènements pour Cambo-les-Bains
BEGIN:VTIMEZONE
TZID:"Europe/Paris"
BEGIN:DAYLIGHT
TZOFFSETFROM:+0100
TZOFFSETTO:+0200
TZNAME:CEST
DTSTART:20260329T010000
END:DAYLIGHT
BEGIN:STANDARD
TZOFFSETFROM:+0200
TZOFFSETTO:+0100
TZNAME:CET
DTSTART:20261025T010000
END:STANDARD
END:VTIMEZONE
BEGIN:VEVENT
DTSTART;TZID="Europe/Paris":20260313T140000
DTEND;TZID="Europe/Paris":20260313T140000
DTSTAMP:20260421T155716
CREATED:20260225T080827Z
LAST-MODIFIED:20260225T080827Z
UID:28904-1773410400-1773410400@www.cambolesbains.fr
SUMMARY:Korrika ttipia
DESCRIPTION: \nPartager :Cliquez pour partager sur Twitter(ouvre dans une nouvelle fenêtre)Cliquez pour partager sur Facebook(ouvre dans une nouvelle fenêtre)Cliquer pour imprimer(ouvre dans une nouvelle fenêtre)
URL:https://www.cambolesbains.fr/fr/evenement/korrika-ttipia/
LOCATION:Rues de Cambo
CATEGORIES:Animation Jeune Public,Animation locales
ATTACH;FMTTYPE=image/png:https://www.cambolesbains.fr/wp-content/uploads/2026/02/2026-03-13-kanbo.png
END:VEVENT
END:VCALENDAR