BEGIN:VCALENDAR
VERSION:2.0
PRODID:-//Cambo-les-Bains - ECPv4.9.4//NONSGML v1.0//EN
CALSCALE:GREGORIAN
METHOD:PUBLISH
X-WR-CALNAME:Cambo-les-Bains
X-ORIGINAL-URL:https://www.cambolesbains.fr
X-WR-CALDESC:Évènements pour Cambo-les-Bains
BEGIN:VTIMEZONE
TZID:"Europe/Paris"
BEGIN:DAYLIGHT
TZOFFSETFROM:+0100
TZOFFSETTO:+0200
TZNAME:CEST
DTSTART:20260329T010000
END:DAYLIGHT
BEGIN:STANDARD
TZOFFSETFROM:+0200
TZOFFSETTO:+0100
TZNAME:CET
DTSTART:20261025T010000
END:STANDARD
END:VTIMEZONE
BEGIN:VEVENT
DTSTART;TZID="Europe/Paris":20261121T203000
DTEND;TZID="Europe/Paris":20261121T203000
DTSTAMP:20260421T172938
CREATED:20260212T150738Z
LAST-MODIFIED:20260212T150738Z
UID:28858-1795293000-1795293000@www.cambolesbains.fr
SUMMARY:CONCERT - "Pink Floyd" mené par le tribute band Floyd Mania
DESCRIPTION:Partager :Cliquez pour partager sur Twitter(ouvre dans une nouvelle fenêtre)Cliquez pour partager sur Facebook(ouvre dans une nouvelle fenêtre)Cliquer pour imprimer(ouvre dans une nouvelle fenêtre)
URL:https://www.cambolesbains.fr/fr/evenement/concert-pink-floyd-mene-par-le-tribute-band-floyd-mania/
LOCATION:Salle AIEC
CATEGORIES:Concert
END:VEVENT
END:VCALENDAR