BEGIN:VCALENDAR
VERSION:2.0
PRODID:-//Cambo-les-Bains - ECPv4.9.4//NONSGML v1.0//EN
CALSCALE:GREGORIAN
METHOD:PUBLISH
X-WR-CALNAME:Cambo-les-Bains
X-ORIGINAL-URL:https://www.cambolesbains.fr
X-WR-CALDESC:Évènements pour Cambo-les-Bains
BEGIN:VTIMEZONE
TZID:"Europe/Paris"
BEGIN:DAYLIGHT
TZOFFSETFROM:+0100
TZOFFSETTO:+0200
TZNAME:CEST
DTSTART:20260329T010000
END:DAYLIGHT
BEGIN:STANDARD
TZOFFSETFROM:+0200
TZOFFSETTO:+0100
TZNAME:CET
DTSTART:20261025T010000
END:STANDARD
END:VTIMEZONE
BEGIN:VEVENT
DTSTART;TZID="Europe/Paris":20260328T100000
DTEND;TZID="Europe/Paris":20260328T100000
DTSTAMP:20260421T172715
CREATED:20260224T091730Z
LAST-MODIFIED:20260224T091932Z
UID:28895-1774692000-1774692000@www.cambolesbains.fr
SUMMARY:Atelier créatif - Le livre autrement
DESCRIPTION:Réutiliser de vieux livres pour créer des œuvres d’art uniques \nPartager :Cliquez pour partager sur Twitter(ouvre dans une nouvelle fenêtre)Cliquez pour partager sur Facebook(ouvre dans une nouvelle fenêtre)Cliquer pour imprimer(ouvre dans une nouvelle fenêtre)
URL:https://www.cambolesbains.fr/fr/evenement/atelier-creatif-le-livre-autrement/
LOCATION:Médiathèque de Cambo
CATEGORIES:Culture
ATTACH;FMTTYPE=image/jpeg:https://www.cambolesbains.fr/wp-content/uploads/2026/02/affiche-atelier-creation-livres-christelle-landart-a4.jpg
END:VEVENT
END:VCALENDAR